BEGIN:VCALENDAR
VERSION:2.0
CALSCALE:GREGORIAN
PRODID:-//Diputació de Barcelona//DibaCMS//EN
BEGIN:VEVENT
UID:26469
DTSTAMP:20260422T030305
DTSTART:20240429T000000
DTEND:20240514T000000
SUMMARY:Exposició "Els valors que ens uneixen"
LOCATION:C. de Font i Boet 7 8140 Caldes de Montbui
METHOD:PUBLISH
X-WR-CALNAME:caldesm@caldesdemontbui.cat
X-WR-TIMEZONE:Europe/Madrid
DESCRIPTION:
URI:https://www.caldesdemontbui.cat/actualitat/agenda/exposicio-els-valors-que-ens-uneixen.html
CLASS:PUBLIC
END:VEVENT
END:VCALENDAR
