BEGIN:VCALENDAR
VERSION:2.0
CALSCALE:GREGORIAN
PRODID:-//Diputació de Barcelona//DibaCMS//EN
BEGIN:VEVENT
UID:26462
DTSTAMP:20260421T171454
DTSTART:20240525T100000
DTEND:20240525T235900
SUMMARY:1a Festa Solidària Associació Pol
LOCATION:
METHOD:PUBLISH
X-WR-CALNAME:caldesm@caldesdemontbui.cat
X-WR-TIMEZONE:Europe/Madrid
DESCRIPTION:
URI:https://www.caldesdemontbui.cat/actualitat/agenda/1a-festa-solidaria-associacio-pol.html
CLASS:PUBLIC
END:VEVENT
END:VCALENDAR
