BEGIN:VCALENDAR
VERSION:2.0
CALSCALE:GREGORIAN
PRODID:-//Diputació de Barcelona//DibaCMS//EN
BEGIN:VEVENT
UID:26456
DTSTAMP:20260421T173320
DTSTART:20240523T180000
DTEND:20240523T180000
SUMMARY:Curs "Els tres grans genis del renaixement italià"  
LOCATION: Corredossos de Baix, 9-11 (antic 1) 8140 Caldes de Montbui
METHOD:PUBLISH
X-WR-CALNAME:caldesm@caldesdemontbui.cat
X-WR-TIMEZONE:Europe/Madrid
DESCRIPTION:
URI:https://www.caldesdemontbui.cat/actualitat/agenda/26456-curs-els-tres-grans-genis-del-renaixement-italia-.html
CLASS:PUBLIC
END:VEVENT
END:VCALENDAR
