BEGIN:VCALENDAR
VERSION:2.0
CALSCALE:GREGORIAN
PRODID:-//Diputació de Barcelona//DibaCMS//EN
BEGIN:VEVENT
UID:26431
DTSTAMP:20260422T055207
DTSTART:20240503T163000
DTEND:20240503T163000
SUMMARY:Jornada Solidària a l'Escola El Farell
LOCATION:Zona Esportiva, s/n 08140 Caldes de Montbui
METHOD:PUBLISH
X-WR-CALNAME:caldesm@caldesdemontbui.cat
X-WR-TIMEZONE:Europe/Madrid
DESCRIPTION:
URI:https://www.caldesdemontbui.cat/actualitat/agenda/jornada-solidaria-a-lescola-el-farell.html
CLASS:PUBLIC
END:VEVENT
END:VCALENDAR
