BEGIN:VCALENDAR
VERSION:2.0
CALSCALE:GREGORIAN
PRODID:-//Diputació de Barcelona//DibaCMS//EN
BEGIN:VEVENT
UID:26420
DTSTAMP:20260421T203318
DTSTART:20240405T120000
DTEND:20240405T120000
SUMMARY:Assemblea de sòcies del Centre
LOCATION:
METHOD:PUBLISH
X-WR-CALNAME:caldesm@caldesdemontbui.cat
X-WR-TIMEZONE:Europe/Madrid
DESCRIPTION:
URI:https://www.caldesdemontbui.cat/actualitat/agenda/assemblea-de-socies-del-centre.html
CLASS:PUBLIC
END:VEVENT
END:VCALENDAR
