BEGIN:VCALENDAR
VERSION:2.0
CALSCALE:GREGORIAN
PRODID:-//Diputació de Barcelona//DibaCMS//EN
BEGIN:VEVENT
UID:26411
DTSTAMP:20260421T174101
DTSTART:20240910T213000
DTEND:20240910T213000
SUMMARY:Ballada de sardanes
LOCATION:pl. de l’U d’octubre 
METHOD:PUBLISH
X-WR-CALNAME:caldesm@caldesdemontbui.cat
X-WR-TIMEZONE:Europe/Madrid
DESCRIPTION:
URI:https://www.caldesdemontbui.cat/actualitat/agenda/26411-ballada-de-sardanes.html
CLASS:PUBLIC
END:VEVENT
END:VCALENDAR
