BEGIN:VCALENDAR
VERSION:2.0
CALSCALE:GREGORIAN
PRODID:-//Diputació de Barcelona//DibaCMS//EN
BEGIN:VEVENT
UID:26408
DTSTAMP:20260422T031529
DTSTART:20240427T120000
DTEND:20240427T120000
SUMMARY:Taller familiar “Creem súper llavors”
LOCATION:Santa Teresa, 3-5 08140 Caldes de Montbui
METHOD:PUBLISH
X-WR-CALNAME:caldesm@caldesdemontbui.cat
X-WR-TIMEZONE:Europe/Madrid
DESCRIPTION:
URI:https://www.caldesdemontbui.cat/actualitat/agenda/26408-taller-familiar-creem-super-llavors.html
CLASS:PUBLIC
END:VEVENT
END:VCALENDAR
