BEGIN:VCALENDAR
VERSION:2.0
CALSCALE:GREGORIAN
PRODID:-//Diputació de Barcelona//DibaCMS//EN
BEGIN:VEVENT
UID:26399
DTSTAMP:20260422T032459
DTSTART:20240430T183000
DTEND:20240430T183000
SUMMARY:El Documental del mes d’abril de la Biblioteca de Caldes de Montbui és “Breaking Social. Podem mantenir els rics?”
LOCATION:Santa Teresa, 3-5 08140 Caldes de Montbui
METHOD:PUBLISH
X-WR-CALNAME:caldesm@caldesdemontbui.cat
X-WR-TIMEZONE:Europe/Madrid
DESCRIPTION:
URI:https://www.caldesdemontbui.cat/actualitat/agenda/el-documental-del-mes-dabril-de-la-biblioteca-de-caldes-de-montbui-es-breaking-social-podem-mantenir-els-rics.html
CLASS:PUBLIC
END:VEVENT
END:VCALENDAR
