BEGIN:VCALENDAR
VERSION:2.0
CALSCALE:GREGORIAN
PRODID:-//Diputació de Barcelona//DibaCMS//EN
BEGIN:VEVENT
UID:26398
DTSTAMP:20260422T032043
DTSTART:20240426T180000
DTEND:20240512T130000
SUMMARY:Exposició “Akelarre” fins el 12 de maig, a la Sala Delger
LOCATION:Carrer del Forn, 8bis 08140 Caldes de Montbui
METHOD:PUBLISH
X-WR-CALNAME:caldesm@caldesdemontbui.cat
X-WR-TIMEZONE:Europe/Madrid
DESCRIPTION:
URI:https://www.caldesdemontbui.cat/actualitat/agenda/exposicio-akelarre-fins-el-12-de-maig-a-la-sala-delger.html
CLASS:PUBLIC
END:VEVENT
END:VCALENDAR
