BEGIN:VCALENDAR
VERSION:2.0
CALSCALE:GREGORIAN
PRODID:-//Diputació de Barcelona//DibaCMS//EN
BEGIN:VEVENT
UID:26384
DTSTAMP:20260422T014848
DTSTART:20240427T110000
DTEND:20240427T110000
SUMMARY:Sant Jordi 2024. Celebració del dia mundial del circ
LOCATION:
METHOD:PUBLISH
X-WR-CALNAME:caldesm@caldesdemontbui.cat
X-WR-TIMEZONE:Europe/Madrid
DESCRIPTION:
URI:https://www.caldesdemontbui.cat/actualitat/agenda/sant-jordi-2024-celebracio-del-dia-mundial-del-circ.html
CLASS:PUBLIC
END:VEVENT
END:VCALENDAR
