BEGIN:VCALENDAR
VERSION:2.0
CALSCALE:GREGORIAN
PRODID:-//Diputació de Barcelona//DibaCMS//EN
BEGIN:VEVENT
UID:26381
DTSTAMP:20260422T073347
DTSTART:20240426T163000
DTEND:20240426T163000
SUMMARY:Sant Jordi 2024. La llegenda de Sant Jordi a càrrec del grup d'animació de la fundació Santa Susanna
LOCATION:
METHOD:PUBLISH
X-WR-CALNAME:caldesm@caldesdemontbui.cat
X-WR-TIMEZONE:Europe/Madrid
DESCRIPTION:
URI:https://www.caldesdemontbui.cat/actualitat/agenda/sant-jordi-2024-la-llegenda-de-sant-jordi-a-carrec-del-grup-danimacio-de-la-fundacio-santa-susanna.html
CLASS:PUBLIC
END:VEVENT
END:VCALENDAR
