BEGIN:VCALENDAR
VERSION:2.0
CALSCALE:GREGORIAN
PRODID:-//Diputació de Barcelona//DibaCMS//EN
BEGIN:VEVENT
UID:26380
DTSTAMP:20260422T055531
DTSTART:20240425T190000
DTEND:20240425T190000
SUMMARY:Sant Jordi 2024. La Jam del Centre 
LOCATION:Corredossos de Baix, 9-11 08140 Caldes de Montbui
METHOD:PUBLISH
X-WR-CALNAME:caldesm@caldesdemontbui.cat
X-WR-TIMEZONE:Europe/Madrid
DESCRIPTION:
URI:https://www.caldesdemontbui.cat/actualitat/agenda/sant-jordi-2024-la-jam-del-centre-.html
CLASS:PUBLIC
END:VEVENT
END:VCALENDAR
