BEGIN:VCALENDAR
VERSION:2.0
CALSCALE:GREGORIAN
PRODID:-//Diputació de Barcelona//DibaCMS//EN
BEGIN:VEVENT
UID:26379
DTSTAMP:20260422T032717
DTSTART:20240424T180000
DTEND:20240424T180000
SUMMARY:Sant Jordi 2024. Sons, llums i paraules. Espectacle-recital a càrrec de Lluís Fortuny
LOCATION:C. Mestre Gregori Montserrat, 4 08140 Caldes de Montbui
METHOD:PUBLISH
X-WR-CALNAME:caldesm@caldesdemontbui.cat
X-WR-TIMEZONE:Europe/Madrid
DESCRIPTION:
URI:https://www.caldesdemontbui.cat/actualitat/agenda/sant-jordi-2024-sons-llums-i-paraules-espectacle-recital-a-carrec-de-lluis-fortuny.html
CLASS:PUBLIC
END:VEVENT
END:VCALENDAR
