BEGIN:VCALENDAR
VERSION:2.0
CALSCALE:GREGORIAN
PRODID:-//Diputació de Barcelona//DibaCMS//EN
BEGIN:VEVENT
UID:26378
DTSTAMP:20260422T013300
DTSTART:20240423T100000
DTEND:20240423T200000
SUMMARY:Sant Jordi 2024. Parades de llibres, roses i signatura de llibres a càrrec d’autors calderins.
LOCATION:
METHOD:PUBLISH
X-WR-CALNAME:caldesm@caldesdemontbui.cat
X-WR-TIMEZONE:Europe/Madrid
DESCRIPTION:Actuacions de dansa, teatre, música i cultura popular.

URI:https://www.caldesdemontbui.cat/actualitat/agenda/sant-jordi-2024-parades-de-llibres-roses-i-signatura-de-llibres-a-carrec-dautors-calderins.html
CLASS:PUBLIC
END:VEVENT
END:VCALENDAR
