BEGIN:VCALENDAR
VERSION:2.0
CALSCALE:GREGORIAN
PRODID:-//Diputació de Barcelona//DibaCMS//EN
BEGIN:VEVENT
UID:26373
DTSTAMP:20260421T235502
DTSTART:20240421T110000
DTEND:20240421T110000
SUMMARY:Sant Jordi 2024. Tallers: concurs de punts de llibre i creació de titelles
LOCATION:
METHOD:PUBLISH
X-WR-CALNAME:caldesm@caldesdemontbui.cat
X-WR-TIMEZONE:Europe/Madrid
DESCRIPTION:
URI:https://www.caldesdemontbui.cat/actualitat/agenda/sant-jordi-2024-tallers-concurs-de-punts-de-llibre-i-creacio-de-titelles.html
CLASS:PUBLIC
END:VEVENT
END:VCALENDAR
