BEGIN:VCALENDAR
VERSION:2.0
CALSCALE:GREGORIAN
PRODID:-//Diputació de Barcelona//DibaCMS//EN
BEGIN:VEVENT
UID:26372
DTSTAMP:20260421T220445
DTSTART:20240420T200000
DTEND:20240420T200000
SUMMARY:Sant Jordi 2024. XV Cicle Musicasino: ball amb l’orquestra La Principal de la Bisbal 
LOCATION:
METHOD:PUBLISH
X-WR-CALNAME:caldesm@caldesdemontbui.cat
X-WR-TIMEZONE:Europe/Madrid
DESCRIPTION:
URI:https://www.caldesdemontbui.cat/actualitat/agenda/sant-jordi-2024-xv-cicle-musicasino-ball-amb-lorquestra-la-principal-de-la-bisbal-.html
CLASS:PUBLIC
END:VEVENT
END:VCALENDAR
