BEGIN:VCALENDAR
VERSION:2.0
CALSCALE:GREGORIAN
PRODID:-//Diputació de Barcelona//DibaCMS//EN
BEGIN:VEVENT
UID:26370
DTSTAMP:20260422T012256
DTSTART:20240420T170000
DTEND:20240420T210000
SUMMARY:Sant Jordi 2024. 52è Aplec sardanista
LOCATION:
METHOD:PUBLISH
X-WR-CALNAME:caldesm@caldesdemontbui.cat
X-WR-TIMEZONE:Europe/Madrid
DESCRIPTION:
URI:https://www.caldesdemontbui.cat/actualitat/agenda/sant-jordi-2024-52e-aplec-sardanista.html
CLASS:PUBLIC
END:VEVENT
END:VCALENDAR
