BEGIN:VCALENDAR
VERSION:2.0
CALSCALE:GREGORIAN
PRODID:-//Diputació de Barcelona//DibaCMS//EN
BEGIN:VEVENT
UID:26369
DTSTAMP:20260422T032756
DTSTART:20240420T110000
DTEND:20240420T201500
SUMMARY:Sant Jordi 2024. 7a Trobada de Bèsties del Ball de Diables de Caldes
LOCATION:
METHOD:PUBLISH
X-WR-CALNAME:caldesm@caldesdemontbui.cat
X-WR-TIMEZONE:Europe/Madrid
DESCRIPTION:
URI:https://www.caldesdemontbui.cat/actualitat/agenda/sant-jordi-2024-7a-trobada-de-besties-del-ball-de-diables-de-caldes.html
CLASS:PUBLIC
END:VEVENT
END:VCALENDAR
