BEGIN:VCALENDAR
VERSION:2.0
CALSCALE:GREGORIAN
PRODID:-//Diputació de Barcelona//DibaCMS//EN
BEGIN:VEVENT
UID:26368
DTSTAMP:20260422T015427
DTSTART:20240419T190000
DTEND:20240419T190000
SUMMARY:Sant Jordi 2024. Presentació del llibre de Raimundo Garcia i Pepe Santo. 17 escons. La política municipal a Caldes de Montbui (1979-2023)
LOCATION:
METHOD:PUBLISH
X-WR-CALNAME:caldesm@caldesdemontbui.cat
X-WR-TIMEZONE:Europe/Madrid
DESCRIPTION:
URI:https://www.caldesdemontbui.cat/actualitat/agenda/sant-jordi-2024-presentacio-del-llibre-de-raimundo-garcia-i-pepe-santo-17-escons-la-politica-municipal-a-caldes-de-montbui-1979-2023.html
CLASS:PUBLIC
END:VEVENT
END:VCALENDAR
