BEGIN:VCALENDAR
VERSION:2.0
CALSCALE:GREGORIAN
PRODID:-//Diputació de Barcelona//DibaCMS//EN
BEGIN:VEVENT
UID:26358
DTSTAMP:20260422T013016
DTSTART:20240422T190000
DTEND:20240422T203000
SUMMARY:Curs d'escriptura creativa (nivell avançat)
LOCATION:Josep Germà, 2 08140 Caldes de Montbui
METHOD:PUBLISH
X-WR-CALNAME:caldesm@caldesdemontbui.cat
X-WR-TIMEZONE:Europe/Madrid
DESCRIPTION:
URI:https://www.caldesdemontbui.cat/actualitat/agenda/curs-descriptura-creativa-nivell-avancat.html
CLASS:PUBLIC
END:VEVENT
END:VCALENDAR
