BEGIN:VCALENDAR
VERSION:2.0
CALSCALE:GREGORIAN
PRODID:-//Diputació de Barcelona//DibaCMS//EN
BEGIN:VEVENT
UID:26353
DTSTAMP:20260422T042134
DTSTART:20240425T180000
DTEND:20240425T180000
SUMMARY:Sant Jordi 2024. Dijous de conte “Va de dracs!” 
LOCATION:Santa Teresa, 3-5 08140 Caldes de Montbui
METHOD:PUBLISH
X-WR-CALNAME:caldesm@caldesdemontbui.cat
X-WR-TIMEZONE:Europe/Madrid
DESCRIPTION:
URI:https://www.caldesdemontbui.cat/actualitat/agenda/sant-jordi-2024-dijous-de-conte-va-de-dracs-.html
CLASS:PUBLIC
END:VEVENT
END:VCALENDAR
