BEGIN:VCALENDAR
VERSION:2.0
CALSCALE:GREGORIAN
PRODID:-//Diputació de Barcelona//DibaCMS//EN
BEGIN:VEVENT
UID:26352
DTSTAMP:20260422T015600
DTSTART:20240522T190000
DTEND:20240522T190000
SUMMARY:Conferència "Com cuidar el cervell? i si podem prevenir el deteriorament cognitiu"
LOCATION:Carrer del Pont, 3 08140 Caldes de Montbui
METHOD:PUBLISH
X-WR-CALNAME:caldesm@caldesdemontbui.cat
X-WR-TIMEZONE:Europe/Madrid
DESCRIPTION:
URI:https://www.caldesdemontbui.cat/actualitat/agenda/conferencia-com-cuidar-el-cervell-i-si-podem-prevenir-el-deteriorament-cognitiu.html
CLASS:PUBLIC
END:VEVENT
END:VCALENDAR
