BEGIN:VCALENDAR
VERSION:2.0
CALSCALE:GREGORIAN
PRODID:-//Diputació de Barcelona//DibaCMS//EN
BEGIN:VEVENT
UID:26351
DTSTAMP:20260422T041713
DTSTART:20240508T190000
DTEND:20240508T190000
SUMMARY:Conferència "Un viatge a NY a través del cinema"
LOCATION:Carrer del Pont, 3 08140 Caldes de Montbui
METHOD:PUBLISH
X-WR-CALNAME:caldesm@caldesdemontbui.cat
X-WR-TIMEZONE:Europe/Madrid
DESCRIPTION:
URI:https://www.caldesdemontbui.cat/actualitat/agenda/conferencia-un-viatge-a-ny-a-traves-del-cinema.html
CLASS:PUBLIC
END:VEVENT
END:VCALENDAR
