BEGIN:VCALENDAR
VERSION:2.0
CALSCALE:GREGORIAN
PRODID:-//Diputació de Barcelona//DibaCMS//EN
BEGIN:VEVENT
UID:26328
DTSTAMP:20260422T011101
DTSTART:20240424T174500
DTEND:20240424T174500
SUMMARY:Sessió oberta de presentació d'instruments de l’Escola Municipal de Música Joan Valls
LOCATION:Buenos Aires, 16 08140 Caldes de Montbui
METHOD:PUBLISH
X-WR-CALNAME:caldesm@caldesdemontbui.cat
X-WR-TIMEZONE:Europe/Madrid
DESCRIPTION:
URI:https://www.caldesdemontbui.cat/actualitat/agenda/sessio-oberta-de-presentacio-dinstruments-de-lescola-municipal-de-musica-joan-valls.html
CLASS:PUBLIC
END:VEVENT
END:VCALENDAR
