BEGIN:VCALENDAR
VERSION:2.0
CALSCALE:GREGORIAN
PRODID:-//Diputació de Barcelona//DibaCMS//EN
BEGIN:VEVENT
UID:26327
DTSTAMP:20260422T032616
DTSTART:20240413T120000
DTEND:20240413T124500
SUMMARY:Narració de contes per a petits lectors. Petits, petits: “Contes de primavera, princeses i dracs”
LOCATION:Santa Teresa, 3-5 08140 Caldes de Montbui
METHOD:PUBLISH
X-WR-CALNAME:caldesm@caldesdemontbui.cat
X-WR-TIMEZONE:Europe/Madrid
DESCRIPTION:
URI:https://www.caldesdemontbui.cat/actualitat/agenda/narracio-de-contes-per-a-petits-lectors-petits-petits-contes-de-primavera-princeses-i-dracs.html
CLASS:PUBLIC
END:VEVENT
END:VCALENDAR
