BEGIN:VCALENDAR
VERSION:2.0
CALSCALE:GREGORIAN
PRODID:-//Diputació de Barcelona//DibaCMS//EN
BEGIN:VEVENT
UID:26326
DTSTAMP:20260421T220524
DTSTART:20240411T170000
DTEND:20240411T170000
SUMMARY:1a Fira FP
LOCATION:Carrer del Pont, 3 08140 Caldes de Montbui
METHOD:PUBLISH
X-WR-CALNAME:caldesm@caldesdemontbui.cat
X-WR-TIMEZONE:Europe/Madrid
DESCRIPTION:
URI:https://www.caldesdemontbui.cat/actualitat/agenda/1a-fira-fp.html
CLASS:PUBLIC
END:VEVENT
END:VCALENDAR
