BEGIN:VCALENDAR
VERSION:2.0
CALSCALE:GREGORIAN
PRODID:-//Diputació de Barcelona//DibaCMS//EN
BEGIN:VEVENT
UID:26324
DTSTAMP:20260422T024702
DTSTART:20240411T180000
DTEND:20240411T180000
SUMMARY:Taller d’escultura familiar “Comprenem els conflictes a través de l’art”
LOCATION:Santa Teresa, 3-5 08140 Caldes de Montbui
METHOD:PUBLISH
X-WR-CALNAME:caldesm@caldesdemontbui.cat
X-WR-TIMEZONE:Europe/Madrid
DESCRIPTION:
URI:https://www.caldesdemontbui.cat/actualitat/agenda/26324-taller-descultura-familiar-comprenem-els-conflictes-a-traves-de-lart.html
CLASS:PUBLIC
END:VEVENT
END:VCALENDAR
