BEGIN:VCALENDAR
VERSION:2.0
CALSCALE:GREGORIAN
PRODID:-//Diputació de Barcelona//DibaCMS//EN
BEGIN:VEVENT
UID:26319
DTSTAMP:20260421T220344
DTSTART:20240408T173000
DTEND:20240408T173000
SUMMARY:Presentació de la gira de primavera 2024 del projecte Ciutats Defensores dels Drets Humans
LOCATION:Carrer del Pont, 3 08140 Caldes de Montbui
METHOD:PUBLISH
X-WR-CALNAME:caldesm@caldesdemontbui.cat
X-WR-TIMEZONE:Europe/Madrid
DESCRIPTION:
URI:https://www.caldesdemontbui.cat/actualitat/agenda/presentacio-de-la-gira-de-primavera-2024-del-projecte-ciutats-defensores-dels-drets-humans.html
CLASS:PUBLIC
END:VEVENT
END:VCALENDAR
