BEGIN:VCALENDAR
VERSION:2.0
CALSCALE:GREGORIAN
PRODID:-//Diputació de Barcelona//DibaCMS//EN
BEGIN:VEVENT
UID:26316
DTSTAMP:20260421T233207
DTSTART:20240404T000000
DTEND:20240404T000000
SUMMARY:1ª Fira de l’FP de Caldes 
LOCATION:Carrer del Pont, 3 08140 Caldes de Montbui
METHOD:PUBLISH
X-WR-CALNAME:caldesm@caldesdemontbui.cat
X-WR-TIMEZONE:Europe/Madrid
DESCRIPTION:
URI:https://www.caldesdemontbui.cat/actualitat/agenda/1a-fira-de-lfp-de-caldes-.html
CLASS:PUBLIC
END:VEVENT
END:VCALENDAR
