BEGIN:VCALENDAR
VERSION:2.0
CALSCALE:GREGORIAN
PRODID:-//Diputació de Barcelona//DibaCMS//EN
BEGIN:VEVENT
UID:26299
DTSTAMP:20260421T215609
DTSTART:20240326T193000
DTEND:20240326T193000
SUMMARY:Inauguració de la exposició d'Isabel Pitarc i actuació del grup de flautes Miniflaustaff 
LOCATION:Carrer del Forn, 8bis 08140 Caldes de Montbui
METHOD:PUBLISH
X-WR-CALNAME:caldesm@caldesdemontbui.cat
X-WR-TIMEZONE:Europe/Madrid
DESCRIPTION:
URI:https://www.caldesdemontbui.cat/actualitat/agenda/inauguracio-de-la-exposicio-disabel-pitarc-i-actuacio-del-grup-de-flautes-miniflaustaff-.html
CLASS:PUBLIC
END:VEVENT
END:VCALENDAR
