BEGIN:VCALENDAR
VERSION:2.0
CALSCALE:GREGORIAN
PRODID:-//Diputació de Barcelona//DibaCMS//EN
BEGIN:VEVENT
UID:26298
DTSTAMP:20260422T032645
DTSTART:20240426T180000
DTEND:20240426T180000
SUMMARY:Sant Jordi 2024. Cantata participativa “El nen enamorat de la lluna” 
LOCATION:
METHOD:PUBLISH
X-WR-CALNAME:caldesm@caldesdemontbui.cat
X-WR-TIMEZONE:Europe/Madrid
DESCRIPTION:
URI:https://www.caldesdemontbui.cat/actualitat/agenda/sant-jordi-2024-cantata-participativa-el-nen-enamorat-de-la-lluna-.html
CLASS:PUBLIC
END:VEVENT
END:VCALENDAR
