BEGIN:VCALENDAR
VERSION:2.0
CALSCALE:GREGORIAN
PRODID:-//Diputació de Barcelona//DibaCMS//EN
BEGIN:VEVENT
UID:26297
DTSTAMP:20260422T013051
DTSTART:20240413T123000
DTEND:20240413T123000
SUMMARY:II Trobada de Corals Caldes-Palau 
LOCATION:Carrer del Pont, 3 08140 Caldes de Montbui
METHOD:PUBLISH
X-WR-CALNAME:caldesm@caldesdemontbui.cat
X-WR-TIMEZONE:Europe/Madrid
DESCRIPTION:
URI:https://www.caldesdemontbui.cat/actualitat/agenda/ii-trobada-de-corals-caldes-palau-.html
CLASS:PUBLIC
END:VEVENT
END:VCALENDAR
