BEGIN:VCALENDAR
VERSION:2.0
CALSCALE:GREGORIAN
PRODID:-//Diputació de Barcelona//DibaCMS//EN
BEGIN:VEVENT
UID:26255
DTSTAMP:20260421T235308
DTSTART:20240427T200000
DTEND:20240427T200000
SUMMARY:Sant Jordi 2024. Dorigen presenta "La Simfonia dels Herois"
LOCATION:
METHOD:PUBLISH
X-WR-CALNAME:caldesm@caldesdemontbui.cat
X-WR-TIMEZONE:Europe/Madrid
DESCRIPTION:
URI:https://www.caldesdemontbui.cat/actualitat/agenda/sant-jordi-2024-dorigen-presenta-la-simfonia-dels-herois.html
CLASS:PUBLIC
END:VEVENT
END:VCALENDAR
