BEGIN:VCALENDAR
VERSION:2.0
CALSCALE:GREGORIAN
PRODID:-//Diputació de Barcelona//DibaCMS//EN
BEGIN:VEVENT
UID:26244
DTSTAMP:20260422T025708
DTSTART:20240317T170000
DTEND:20240317T200000
SUMMARY:Mercat de l'Olla 2024. Espai de jocs tradicionals amb Fefe i Companyia 
LOCATION:
METHOD:PUBLISH
X-WR-CALNAME:caldesm@caldesdemontbui.cat
X-WR-TIMEZONE:Europe/Madrid
DESCRIPTION:
URI:https://www.caldesdemontbui.cat/actualitat/agenda/26244-mercat-de-lolla-2024-espai-de-jocs-tradicionals-amb-fefe-i-companyia-.html
CLASS:PUBLIC
END:VEVENT
END:VCALENDAR
