BEGIN:VCALENDAR
VERSION:2.0
CALSCALE:GREGORIAN
PRODID:-//Diputació de Barcelona//DibaCMS//EN
BEGIN:VEVENT
UID:26243
DTSTAMP:20260422T073420
DTSTART:20240317T170000
DTEND:20240317T200000
SUMMARY:Mercat de l'Olla 2024. Taller "Imant de l'Olla" amb Anna Ribot 
LOCATION:
METHOD:PUBLISH
X-WR-CALNAME:caldesm@caldesdemontbui.cat
X-WR-TIMEZONE:Europe/Madrid
DESCRIPTION:
URI:https://www.caldesdemontbui.cat/actualitat/agenda/mercat-de-lolla-2024-taller-imant-de-lolla-amb-anna-ribot-.html
CLASS:PUBLIC
END:VEVENT
END:VCALENDAR
