BEGIN:VCALENDAR
VERSION:2.0
CALSCALE:GREGORIAN
PRODID:-//Diputació de Barcelona//DibaCMS//EN
BEGIN:VEVENT
UID:26242
DTSTAMP:20260422T104506
DTSTART:20240317T170000
DTEND:20240317T170000
SUMMARY:Mercat de l'Olla 2024.  Espectacle infantil (titelles)
LOCATION:
METHOD:PUBLISH
X-WR-CALNAME:caldesm@caldesdemontbui.cat
X-WR-TIMEZONE:Europe/Madrid
DESCRIPTION:
URI:https://www.caldesdemontbui.cat/actualitat/agenda/mercat-de-lolla-2024-espectacle-infantil-titelles.html
CLASS:PUBLIC
END:VEVENT
END:VCALENDAR
