BEGIN:VCALENDAR
VERSION:2.0
CALSCALE:GREGORIAN
PRODID:-//Diputació de Barcelona//DibaCMS//EN
BEGIN:VEVENT
UID:26241
DTSTAMP:20260422T074846
DTSTART:20240317T120000
DTEND:20240317T120000
SUMMARY:Mercat de l'Olla 2024. Diada bastonera amb colles convidades
LOCATION:
METHOD:PUBLISH
X-WR-CALNAME:caldesm@caldesdemontbui.cat
X-WR-TIMEZONE:Europe/Madrid
DESCRIPTION:
URI:https://www.caldesdemontbui.cat/actualitat/agenda/mercat-de-lolla-2024-diada-bastonera-amb-colles-convidades.html
CLASS:PUBLIC
END:VEVENT
END:VCALENDAR
