BEGIN:VCALENDAR
VERSION:2.0
CALSCALE:GREGORIAN
PRODID:-//Diputació de Barcelona//DibaCMS//EN
BEGIN:VEVENT
UID:26240
DTSTAMP:20260422T042959
DTSTART:20240317T120000
DTEND:20240317T120000
SUMMARY:Mercat de l'Olla 2024. Tastaolletes: Tast popular de cigrons amb botifarra del perol i llardons
LOCATION:
METHOD:PUBLISH
X-WR-CALNAME:caldesm@caldesdemontbui.cat
X-WR-TIMEZONE:Europe/Madrid
DESCRIPTION:
URI:https://www.caldesdemontbui.cat/actualitat/agenda/26240-mercat-de-lolla-2024-tastaolletes-tast-popular-de-cigrons-amb-botifarra-del-perol-i-llardons.html
CLASS:PUBLIC
END:VEVENT
END:VCALENDAR
