BEGIN:VCALENDAR
VERSION:2.0
CALSCALE:GREGORIAN
PRODID:-//Diputació de Barcelona//DibaCMS//EN
BEGIN:VEVENT
UID:26239
DTSTAMP:20260422T042035
DTSTART:20240317T110000
DTEND:20240317T140000
SUMMARY:Mercat de l'Olla 2024. Programació especial en directe de l’emissora municipal amb motiu del Mercat de l’Olla
LOCATION:
METHOD:PUBLISH
X-WR-CALNAME:caldesm@caldesdemontbui.cat
X-WR-TIMEZONE:Europe/Madrid
DESCRIPTION:
URI:https://www.caldesdemontbui.cat/actualitat/agenda/mercat-de-lolla-2024-programacio-especial-en-directe-de-lemissora-municipal-amb-motiu-del-mercat-de-lolla.html
CLASS:PUBLIC
END:VEVENT
END:VCALENDAR
