BEGIN:VCALENDAR
VERSION:2.0
CALSCALE:GREGORIAN
PRODID:-//Diputació de Barcelona//DibaCMS//EN
BEGIN:VEVENT
UID:26237
DTSTAMP:20260422T011849
DTSTART:20240317T100000
DTEND:20240317T140000
SUMMARY:Mercat de l'Olla 2024. Taller "El cuiner titella" amb Anna Ribot
LOCATION:
METHOD:PUBLISH
X-WR-CALNAME:caldesm@caldesdemontbui.cat
X-WR-TIMEZONE:Europe/Madrid
DESCRIPTION:
URI:https://www.caldesdemontbui.cat/actualitat/agenda/mercat-de-lolla-2024-taller-el-cuiner-titella-amb-anna-ribot.html
CLASS:PUBLIC
END:VEVENT
END:VCALENDAR
