BEGIN:VCALENDAR
VERSION:2.0
CALSCALE:GREGORIAN
PRODID:-//Diputació de Barcelona//DibaCMS//EN
BEGIN:VEVENT
UID:26234
DTSTAMP:20260421T235354
DTSTART:20240316T170000
DTEND:20240316T200000
SUMMARY:Mercat de l'Olla 2024. Taller de ninots de fusta amb Anna Ribot
LOCATION:
METHOD:PUBLISH
X-WR-CALNAME:caldesm@caldesdemontbui.cat
X-WR-TIMEZONE:Europe/Madrid
DESCRIPTION:
URI:https://www.caldesdemontbui.cat/actualitat/agenda/mercat-de-lolla-2024-taller-de-ninots-de-fusta-amb-anna-ribot.html
CLASS:PUBLIC
END:VEVENT
END:VCALENDAR
