BEGIN:VCALENDAR
VERSION:2.0
CALSCALE:GREGORIAN
PRODID:-//Diputació de Barcelona//DibaCMS//EN
BEGIN:VEVENT
UID:26232
DTSTAMP:20260421T222308
DTSTART:20240316T100000
DTEND:20240316T140000
SUMMARY:Mercat de l'Olla 2024. Taller " Estampa l’olla" amb Anna Ribot
LOCATION:
METHOD:PUBLISH
X-WR-CALNAME:caldesm@caldesdemontbui.cat
X-WR-TIMEZONE:Europe/Madrid
DESCRIPTION:
URI:https://www.caldesdemontbui.cat/actualitat/agenda/mercat-de-lolla-2024-taller--estampa-lolla-amb-anna-ribot.html
CLASS:PUBLIC
END:VEVENT
END:VCALENDAR
