BEGIN:VCALENDAR
VERSION:2.0
CALSCALE:GREGORIAN
PRODID:-//Diputació de Barcelona//DibaCMS//EN
BEGIN:VEVENT
UID:26228
DTSTAMP:20260422T031300
DTSTART:20240317T100000
DTEND:20240317T200000
SUMMARY:Fira d’antiquaris i brocanters. Març de 2024 
LOCATION:
METHOD:PUBLISH
X-WR-CALNAME:caldesm@caldesdemontbui.cat
X-WR-TIMEZONE:Europe/Madrid
DESCRIPTION:
URI:https://www.caldesdemontbui.cat/actualitat/agenda/fira-dantiquaris-i-brocanters-marc-de-2024-.html
CLASS:PUBLIC
END:VEVENT
END:VCALENDAR
