BEGIN:VCALENDAR
VERSION:2.0
CALSCALE:GREGORIAN
PRODID:-//Diputació de Barcelona//DibaCMS//EN
BEGIN:VEVENT
UID:26215
DTSTAMP:20260422T060327
DTSTART:20240322T164500
DTEND:20240322T164500
SUMMARY:Vine a la festa amb Country Caldes
LOCATION:
METHOD:PUBLISH
X-WR-CALNAME:caldesm@caldesdemontbui.cat
X-WR-TIMEZONE:Europe/Madrid
DESCRIPTION:
URI:https://www.caldesdemontbui.cat/actualitat/agenda/vine-a-la-festa-amb-country-caldes.html
CLASS:PUBLIC
END:VEVENT
END:VCALENDAR
