BEGIN:VCALENDAR
VERSION:2.0
CALSCALE:GREGORIAN
PRODID:-//Diputació de Barcelona//DibaCMS//EN
BEGIN:VEVENT
UID:26214
DTSTAMP:20260421T235226
DTSTART:20240320T090000
DTEND:20240320T090000
SUMMARY:Caminada als Saulons i a la Font dels Enamorats
LOCATION:
METHOD:PUBLISH
X-WR-CALNAME:caldesm@caldesdemontbui.cat
X-WR-TIMEZONE:Europe/Madrid
DESCRIPTION:
URI:https://www.caldesdemontbui.cat/actualitat/agenda/26214-caminada-als-saulons-i-a-la-font-dels-enamorats.html
CLASS:PUBLIC
END:VEVENT
END:VCALENDAR
