BEGIN:VCALENDAR
VERSION:2.0
CALSCALE:GREGORIAN
PRODID:-//Diputació de Barcelona//DibaCMS//EN
BEGIN:VEVENT
UID:26210
DTSTAMP:20260423T042729
DTSTART:20240306T170000
DTEND:20240306T170000
SUMMARY:Xerrada i meditació cristiana "Un viatge a l'interior de l'ànima"
LOCATION:
METHOD:PUBLISH
X-WR-CALNAME:caldesm@caldesdemontbui.cat
X-WR-TIMEZONE:Europe/Madrid
DESCRIPTION:
URI:https://www.caldesdemontbui.cat/actualitat/agenda/xerrada-i-meditacio-cristiana-un-viatge-a-linterior-de-lanima.html
CLASS:PUBLIC
END:VEVENT
END:VCALENDAR
