BEGIN:VCALENDAR
VERSION:2.0
CALSCALE:GREGORIAN
PRODID:-//Diputació de Barcelona//DibaCMS//EN
BEGIN:VEVENT
UID:26209
DTSTAMP:20260422T055136
DTSTART:20240310T193000
DTEND:20240310T193000
SUMMARY:Myriam Swanson & Jordi Mena
LOCATION:Corredossos de Baix, 9-11 08140 Caldes de Montbui
METHOD:PUBLISH
X-WR-CALNAME:caldesm@caldesdemontbui.cat
X-WR-TIMEZONE:Europe/Madrid
DESCRIPTION:
URI:https://www.caldesdemontbui.cat/actualitat/agenda/myriam-swanson-and-jordi-mena.html
CLASS:PUBLIC
END:VEVENT
END:VCALENDAR
