BEGIN:VCALENDAR
VERSION:2.0
CALSCALE:GREGORIAN
PRODID:-//Diputació de Barcelona//DibaCMS//EN
BEGIN:VEVENT
UID:26208
DTSTAMP:20260421T233818
DTSTART:20240309T093000
DTEND:20240309T093000
SUMMARY:Jornada de lliga catalana de touch
LOCATION:Zona Esportiva Les Cremades 08140 Caldes de Montbui
METHOD:PUBLISH
X-WR-CALNAME:caldesm@caldesdemontbui.cat
X-WR-TIMEZONE:Europe/Madrid
DESCRIPTION:
URI:https://www.caldesdemontbui.cat/actualitat/agenda/jornada-de-lliga-catalana-de-touch.html
CLASS:PUBLIC
END:VEVENT
END:VCALENDAR
