BEGIN:VCALENDAR
VERSION:2.0
CALSCALE:GREGORIAN
PRODID:-//Diputació de Barcelona//DibaCMS//EN
BEGIN:VEVENT
UID:26200
DTSTAMP:20260422T045958
DTSTART:20240316T113000
DTEND:20240316T113000
SUMMARY:8M. Presentació de les Infografies Dones a Caldes i Presència de Dones a l’Escena Musical i Taula Rodona
LOCATION:Santa Teresa, 3-5 08140 Caldes de Montbui
METHOD:PUBLISH
X-WR-CALNAME:caldesm@caldesdemontbui.cat
X-WR-TIMEZONE:Europe/Madrid
DESCRIPTION:
URI:https://www.caldesdemontbui.cat/actualitat/agenda/8m-presentacio-de-les-infografies-dones-a-caldes-i-presencia-de-dones-a-lescena-musical-i-taula-rodona.html
CLASS:PUBLIC
END:VEVENT
END:VCALENDAR
