BEGIN:VCALENDAR
VERSION:2.0
CALSCALE:GREGORIAN
PRODID:-//Diputació de Barcelona//DibaCMS//EN
BEGIN:VEVENT
UID:26199
DTSTAMP:20260422T015341
DTSTART:20240316T110000
DTEND:20240316T110000
SUMMARY:8M. Inauguració de l'exposició: Enciclopèdia Dones STEAM, a càrrec de Núria Salàn
LOCATION:Santa Teresa, 3-5 08140 Caldes de Montbui
METHOD:PUBLISH
X-WR-CALNAME:caldesm@caldesdemontbui.cat
X-WR-TIMEZONE:Europe/Madrid
DESCRIPTION:
URI:https://www.caldesdemontbui.cat/actualitat/agenda/8m-inauguracio-de-lexposicio-enciclopedia-dones-steam-a-carrec-de-nuria-salan.html
CLASS:PUBLIC
END:VEVENT
END:VCALENDAR
